BEGIN:VCALENDAR
VERSION:2.0
PRODID:-//Judo Victoria Incorporated - ECPv6.2.9//NONSGML v1.0//EN
CALSCALE:GREGORIAN
METHOD:PUBLISH
X-ORIGINAL-URL:https://judovictoria.com.au
X-WR-CALDESC:Events for Judo Victoria Incorporated
REFRESH-INTERVAL;VALUE=DURATION:PT1H
X-Robots-Tag:noindex
X-PUBLISHED-TTL:PT1H
BEGIN:VTIMEZONE
TZID:Australia/Melbourne
BEGIN:STANDARD
TZOFFSETFROM:+1100
TZOFFSETTO:+1000
TZNAME:AEST
DTSTART:20210403T160000
END:STANDARD
BEGIN:DAYLIGHT
TZOFFSETFROM:+1000
TZOFFSETTO:+1100
TZNAME:AEDT
DTSTART:20211002T160000
END:DAYLIGHT
END:VTIMEZONE
BEGIN:VEVENT
DTSTART;TZID=Australia/Melbourne:20210502T090000
DTEND;TZID=Australia/Melbourne:20210502T170000
DTSTAMP:20260424T021507
CREATED:20210328T043905Z
LAST-MODIFIED:20210415T041713Z
UID:2428-1619946000-1619974800@judovictoria.com.au
SUMMARY:JVI 2021 Autumn Competition
DESCRIPTION:
URL:https://judovictoria.com.au/event/jvi-2021-autumn-competition/
LOCATION:Broadmeadows Aquatic and Leisure Centre\, 63 Tanderrum Way\, Broadmeadows\, Victoria\, 3047\, Australia
CATEGORIES:Competition,In Victoria
ATTACH;FMTTYPE=image/png:https://judovictoria.com.au/wp-content/uploads/2021/03/May-2-Tournament-Post-.png
END:VEVENT
BEGIN:VEVENT
DTSTART;TZID=Australia/Melbourne:20210516T093000
DTEND;TZID=Australia/Melbourne:20210516T110000
DTSTAMP:20260424T021507
CREATED:20210328T044003Z
LAST-MODIFIED:20210328T044003Z
UID:2429-1621157400-1621162800@judovictoria.com.au
SUMMARY:JVI Committee-3
DESCRIPTION:
URL:https://judovictoria.com.au/event/jvi-committee-3/
LOCATION:Zoom\, Australia
CATEGORIES:In Victoria,Meeting
END:VEVENT
BEGIN:VEVENT
DTSTART;VALUE=DATE:20210519
DTEND;VALUE=DATE:20210701
DTSTAMP:20260424T021507
CREATED:20210519T044642Z
LAST-MODIFIED:20210519T044748Z
UID:2447-1621382400-1625097599@judovictoria.com.au
SUMMARY:JV Club Development Program – Supporting our Clubs Grant
DESCRIPTION:Details: Club Development Grant program – Asset Purchase May 2021
URL:https://judovictoria.com.au/event/jv-club-development-program-supporting-our-clubs-grant/
CATEGORIES:Club,In Victoria,State
ATTACH;FMTTYPE=image/png:https://judovictoria.com.au/wp-content/uploads/2021/05/2021-05-19-14_43_59-Club-Development-Grant-program-Asset-Purchase_May-21.png
END:VEVENT
BEGIN:VEVENT
DTSTART;VALUE=DATE:20210530
DTEND;VALUE=DATE:20210531
DTSTAMP:20260424T021507
CREATED:20210328T044207Z
LAST-MODIFIED:20210519T021154Z
UID:2432-1622332800-1622419199@judovictoria.com.au
SUMMARY:Kata Metro Seminar
DESCRIPTION:
URL:https://judovictoria.com.au/event/kata-metro-seminar/
CATEGORIES:Event,In Victoria
ATTACH;FMTTYPE=image/png:https://judovictoria.com.au/wp-content/uploads/2021/03/KataSeminar_20210530.png
END:VEVENT
END:VCALENDAR