BEGIN:VCALENDAR
VERSION:2.0
PRODID:-//Judo Victoria Incorporated - ECPv6.2.9//NONSGML v1.0//EN
CALSCALE:GREGORIAN
METHOD:PUBLISH
X-WR-CALNAME:Judo Victoria Incorporated
X-ORIGINAL-URL:https://judovictoria.com.au
X-WR-CALDESC:Events for Judo Victoria Incorporated
REFRESH-INTERVAL;VALUE=DURATION:PT1H
X-Robots-Tag:noindex
X-PUBLISHED-TTL:PT1H
BEGIN:VTIMEZONE
TZID:Australia/Melbourne
BEGIN:STANDARD
TZOFFSETFROM:+1100
TZOFFSETTO:+1000
TZNAME:AEST
DTSTART:20210403T160000
END:STANDARD
BEGIN:DAYLIGHT
TZOFFSETFROM:+1000
TZOFFSETTO:+1100
TZNAME:AEDT
DTSTART:20211002T160000
END:DAYLIGHT
END:VTIMEZONE
BEGIN:VEVENT
DTSTART;TZID=Australia/Melbourne:20210912T080000
DTEND;TZID=Australia/Melbourne:20210912T170000
DTSTAMP:20260423T215412
CREATED:20210806T105749Z
LAST-MODIFIED:20210806T105749Z
UID:2480-1631433600-1631466000@judovictoria.com.au
SUMMARY:JVI Referee Rules Seminar
DESCRIPTION:
URL:https://judovictoria.com.au/event/jvi-referee-rules-seminar/
LOCATION:Rescheduled
CATEGORIES:Event,In Victoria
END:VEVENT
BEGIN:VEVENT
DTSTART;TZID=Australia/Melbourne:20210919T080000
DTEND;TZID=Australia/Melbourne:20210919T170000
DTSTAMP:20260423T215412
CREATED:20210806T105900Z
LAST-MODIFIED:20210806T105900Z
UID:2481-1632038400-1632070800@judovictoria.com.au
SUMMARY:Coaching Accredidation Forum (CAF)
DESCRIPTION:
URL:https://judovictoria.com.au/event/coaching-accredidation-forum-caf/
LOCATION:Rescheduled
CATEGORIES:Event,In Victoria
END:VEVENT
BEGIN:VEVENT
DTSTART;TZID=Australia/Melbourne:20210919T080000
DTEND;TZID=Australia/Melbourne:20210924T170000
DTSTAMP:20260423T215412
CREATED:20210806T110029Z
LAST-MODIFIED:20210930T073521Z
UID:2482-1632038400-1632502800@judovictoria.com.au
SUMMARY:JVI 2021 4 Day Judo Camp - CANCELLED
DESCRIPTION:
URL:https://judovictoria.com.au/event/jvi-2021-4-day-judo-camp-eoi/
LOCATION:Shoreham Dojo\, 105 Hendersons Road\, Bittern\, Victoria\, Australia
CATEGORIES:Camp,In Victoria
END:VEVENT
BEGIN:VEVENT
DTSTART;TZID=Australia/Melbourne:20210930T193000
DTEND;TZID=Australia/Melbourne:20210930T210000
DTSTAMP:20260423T215412
CREATED:20210806T110211Z
LAST-MODIFIED:20210930T073638Z
UID:2483-1633030200-1633035600@judovictoria.com.au
SUMMARY:JVI Committee Meeting - 6
DESCRIPTION:
URL:https://judovictoria.com.au/event/jvi-committee-6/
LOCATION:Zoom\, Australia
CATEGORIES:In Victoria,Meeting
END:VEVENT
END:VCALENDAR