BEGIN:VCALENDAR
VERSION:2.0
PRODID:-//Judo Victoria Incorporated - ECPv6.2.9//NONSGML v1.0//EN
CALSCALE:GREGORIAN
METHOD:PUBLISH
X-WR-CALNAME:Judo Victoria Incorporated
X-ORIGINAL-URL:https://judovictoria.com.au
X-WR-CALDESC:Events for Judo Victoria Incorporated
REFRESH-INTERVAL;VALUE=DURATION:PT1H
X-Robots-Tag:noindex
X-PUBLISHED-TTL:PT1H
BEGIN:VTIMEZONE
TZID:Australia/Melbourne
BEGIN:STANDARD
TZOFFSETFROM:+1100
TZOFFSETTO:+1000
TZNAME:AEST
DTSTART:20210403T160000
END:STANDARD
BEGIN:DAYLIGHT
TZOFFSETFROM:+1000
TZOFFSETTO:+1100
TZNAME:AEDT
DTSTART:20211002T160000
END:DAYLIGHT
END:VTIMEZONE
BEGIN:VEVENT
DTSTART;TZID=Australia/Melbourne:20211003T100000
DTEND;TZID=Australia/Melbourne:20211003T140000
DTSTAMP:20260423T205530
CREATED:20210930T073817Z
LAST-MODIFIED:20210930T073817Z
UID:2511-1633255200-1633269600@judovictoria.com.au
SUMMARY:Strategic Plan Workshop
DESCRIPTION:
URL:https://judovictoria.com.au/event/strategic-plan-workshop/
LOCATION:Zoom\, Australia
CATEGORIES:In Victoria,Meeting
END:VEVENT
BEGIN:VEVENT
DTSTART;TZID=Australia/Melbourne:20211023T080000
DTEND;TZID=Australia/Melbourne:20211023T170000
DTSTAMP:20260423T205530
CREATED:20210806T110858Z
LAST-MODIFIED:20210930T073428Z
UID:2491-1634976000-1635008400@judovictoria.com.au
SUMMARY:JVI Recreational Regional Tournament - CANCELLED
DESCRIPTION:
URL:https://judovictoria.com.au/event/jvi-recreational-regional-tournament/
LOCATION:Broadmeadows Aquatic and Leisure Centre\, 63 Tanderrum Way\, Broadmeadows\, Victoria\, 3047\, Australia
CATEGORIES:Competition,In Victoria
END:VEVENT
BEGIN:VEVENT
DTSTART;TZID=Australia/Melbourne:20211023T080000
DTEND;TZID=Australia/Melbourne:20211023T170000
DTSTAMP:20260423T205530
CREATED:20210806T111102Z
LAST-MODIFIED:20210930T073327Z
UID:2493-1634976000-1635008400@judovictoria.com.au
SUMMARY:Kata Seminar - POSTPONED
DESCRIPTION:
URL:https://judovictoria.com.au/event/kata-seminar/
LOCATION:Rescheduled
CATEGORIES:Event,In Victoria
END:VEVENT
END:VCALENDAR