BEGIN:VCALENDAR
VERSION:2.0
PRODID:-//Judo Victoria Incorporated - ECPv6.2.9//NONSGML v1.0//EN
CALSCALE:GREGORIAN
METHOD:PUBLISH
X-WR-CALNAME:Judo Victoria Incorporated
X-ORIGINAL-URL:https://judovictoria.com.au
X-WR-CALDESC:Events for Judo Victoria Incorporated
REFRESH-INTERVAL;VALUE=DURATION:PT1H
X-Robots-Tag:noindex
X-PUBLISHED-TTL:PT1H
BEGIN:VTIMEZONE
TZID:Australia/Melbourne
BEGIN:STANDARD
TZOFFSETFROM:+1100
TZOFFSETTO:+1000
TZNAME:AEST
DTSTART:20210403T160000
END:STANDARD
BEGIN:DAYLIGHT
TZOFFSETFROM:+1000
TZOFFSETTO:+1100
TZNAME:AEDT
DTSTART:20211002T160000
END:DAYLIGHT
END:VTIMEZONE
BEGIN:VEVENT
DTSTART;TZID=Australia/Melbourne:20211114T080000
DTEND;TZID=Australia/Melbourne:20211114T170000
DTSTAMP:20260423T194748
CREATED:20210806T111419Z
LAST-MODIFIED:20210806T111436Z
UID:2496-1636876800-1636909200@judovictoria.com.au
SUMMARY:JVI Referee Rules Seminar
DESCRIPTION:
URL:https://judovictoria.com.au/event/jvi-referee-rules-seminar-2/
LOCATION:Rescheduled
CATEGORIES:In Victoria,Meeting
END:VEVENT
BEGIN:VEVENT
DTSTART;TZID=Australia/Melbourne:20211121T140000
DTEND;TZID=Australia/Melbourne:20211121T153000
DTSTAMP:20260423T194748
CREATED:20210806T111541Z
LAST-MODIFIED:20210806T111541Z
UID:2498-1637503200-1637508600@judovictoria.com.au
SUMMARY:JVI 2021 AGM
DESCRIPTION:
URL:https://judovictoria.com.au/event/jvi-2021-agm/
LOCATION:Broadmeadows Aquatic and Leisure Centre\, 63 Tanderrum Way\, Broadmeadows\, Victoria\, 3047\, Australia
CATEGORIES:In Victoria,Meeting
END:VEVENT
BEGIN:VEVENT
DTSTART;TZID=Australia/Melbourne:20211121T153000
DTEND;TZID=Australia/Melbourne:20211121T163000
DTSTAMP:20260423T194748
CREATED:20211120T163049Z
LAST-MODIFIED:20210806T111715Z
UID:2499-1637508600-1637512200@judovictoria.com.au
SUMMARY:JVI Committee Meeting - 7
DESCRIPTION:
URL:https://judovictoria.com.au/event/jvi-committee-meeting-7/
LOCATION:Broadmeadows Aquatic and Leisure Centre\, 63 Tanderrum Way\, Broadmeadows\, Victoria\, 3047\, Australia
CATEGORIES:In Victoria,Meeting
END:VEVENT
END:VCALENDAR