BEGIN:VCALENDAR
VERSION:2.0
PRODID:-//Judo Victoria Incorporated - ECPv6.2.9//NONSGML v1.0//EN
CALSCALE:GREGORIAN
METHOD:PUBLISH
X-WR-CALNAME:Judo Victoria Incorporated
X-ORIGINAL-URL:https://judovictoria.com.au
X-WR-CALDESC:Events for Judo Victoria Incorporated
REFRESH-INTERVAL;VALUE=DURATION:PT1H
X-Robots-Tag:noindex
X-PUBLISHED-TTL:PT1H
BEGIN:VTIMEZONE
TZID:Australia/Melbourne
BEGIN:STANDARD
TZOFFSETFROM:+1100
TZOFFSETTO:+1000
TZNAME:AEST
DTSTART:20210403T160000
END:STANDARD
BEGIN:DAYLIGHT
TZOFFSETFROM:+1000
TZOFFSETTO:+1100
TZNAME:AEDT
DTSTART:20211002T160000
END:DAYLIGHT
END:VTIMEZONE
BEGIN:VEVENT
DTSTART;TZID=Australia/Melbourne:20211212T103000
DTEND;TZID=Australia/Melbourne:20211212T143000
DTSTAMP:20260423T184342
CREATED:20210806T111959Z
LAST-MODIFIED:20210806T111959Z
UID:2501-1639305000-1639319400@judovictoria.com.au
SUMMARY:JVI Committee Meeting - 8
DESCRIPTION:
URL:https://judovictoria.com.au/event/jvi-committee-meeting-8/
LOCATION:Rescheduled
CATEGORIES:In Victoria,Meeting
END:VEVENT
END:VCALENDAR