BEGIN:VCALENDAR
VERSION:2.0
PRODID:-//Judo Victoria Incorporated - ECPv6.2.9//NONSGML v1.0//EN
CALSCALE:GREGORIAN
METHOD:PUBLISH
X-WR-CALNAME:Judo Victoria Incorporated
X-ORIGINAL-URL:https://judovictoria.com.au
X-WR-CALDESC:Events for Judo Victoria Incorporated
REFRESH-INTERVAL;VALUE=DURATION:PT1H
X-Robots-Tag:noindex
X-PUBLISHED-TTL:PT1H
BEGIN:VTIMEZONE
TZID:Australia/Melbourne
BEGIN:STANDARD
TZOFFSETFROM:+1100
TZOFFSETTO:+1000
TZNAME:AEST
DTSTART:20220402T160000
END:STANDARD
BEGIN:DAYLIGHT
TZOFFSETFROM:+1000
TZOFFSETTO:+1100
TZNAME:AEDT
DTSTART:20221001T160000
END:DAYLIGHT
END:VTIMEZONE
BEGIN:VEVENT
DTSTART;TZID=Australia/Melbourne:20220305T133000
DTEND;TZID=Australia/Melbourne:20220305T171500
DTSTAMP:20260423T152805
CREATED:20220131T205631Z
LAST-MODIFIED:20220131T205631Z
UID:2535-1646487000-1646500500@judovictoria.com.au
SUMMARY:Squad Training
DESCRIPTION:
URL:https://judovictoria.com.au/event/squad-training-3/
LOCATION:Resilience Training Centre\, 86 Buckley Street\, Footscray\, Victoria\, 3011\, Australia
CATEGORIES:In Victoria
END:VEVENT
BEGIN:VEVENT
DTSTART;TZID=Australia/Melbourne:20220311T160000
DTEND;TZID=Australia/Melbourne:20220313T170000
DTSTAMP:20260423T152805
CREATED:20220131T205750Z
LAST-MODIFIED:20220216T214759Z
UID:2536-1647014400-1647190800@judovictoria.com.au
SUMMARY:Melbourne International Judo Open 2022
DESCRIPTION:
URL:https://judovictoria.com.au/event/melbourne-international-judo-open-2022/
LOCATION:Broadmeadows Aquatic and Leisure Centre\, 63 Tanderrum Way\, Broadmeadows\, Victoria\, 3047\, Australia
CATEGORIES:Competition,In Victoria,Interstate,JA
ATTACH;FMTTYPE=image/png:https://judovictoria.com.au/wp-content/uploads/2022/02/Screenshot-2021-12-10-122818-MIJO.png
END:VEVENT
BEGIN:VEVENT
DTSTART;TZID=Australia/Melbourne:20220319T133000
DTEND;TZID=Australia/Melbourne:20220319T171500
DTSTAMP:20260423T152805
CREATED:20220131T205854Z
LAST-MODIFIED:20220131T205854Z
UID:2537-1647696600-1647710100@judovictoria.com.au
SUMMARY:Squad Training
DESCRIPTION:
URL:https://judovictoria.com.au/event/squad-training-4/
LOCATION:Resilience Training Centre\, 86 Buckley Street\, Footscray\, Victoria\, 3011\, Australia
CATEGORIES:In Victoria
END:VEVENT
BEGIN:VEVENT
DTSTART;TZID=Australia/Melbourne:20220320T150000
DTEND;TZID=Australia/Melbourne:20220320T163000
DTSTAMP:20260423T152805
CREATED:20220131T210420Z
LAST-MODIFIED:20220318T042740Z
UID:2542-1647788400-1647793800@judovictoria.com.au
SUMMARY:JV Committee Meeting #2
DESCRIPTION:
URL:https://judovictoria.com.au/event/jvi-committee-meeting-2/
LOCATION:Zoom\, Australia
CATEGORIES:In Victoria,Meeting
END:VEVENT
BEGIN:VEVENT
DTSTART;TZID=Australia/Melbourne:20220326T133000
DTEND;TZID=Australia/Melbourne:20220326T171500
DTSTAMP:20260423T152805
CREATED:20220131T205924Z
LAST-MODIFIED:20220131T210033Z
UID:2538-1648301400-1648314900@judovictoria.com.au
SUMMARY:Squad Training
DESCRIPTION:
URL:https://judovictoria.com.au/event/squad-training-5/
LOCATION:Resilience Training Centre\, 86 Buckley Street\, Footscray\, Victoria\, 3011\, Australia
CATEGORIES:In Victoria
END:VEVENT
END:VCALENDAR