BEGIN:VCALENDAR
VERSION:2.0
PRODID:-//Judo Victoria Incorporated - ECPv6.2.9//NONSGML v1.0//EN
CALSCALE:GREGORIAN
METHOD:PUBLISH
X-ORIGINAL-URL:https://judovictoria.com.au
X-WR-CALDESC:Events for Judo Victoria Incorporated
REFRESH-INTERVAL;VALUE=DURATION:PT1H
X-Robots-Tag:noindex
X-PUBLISHED-TTL:PT1H
BEGIN:VTIMEZONE
TZID:Australia/Melbourne
BEGIN:STANDARD
TZOFFSETFROM:+1100
TZOFFSETTO:+1000
TZNAME:AEST
DTSTART:20220402T160000
END:STANDARD
BEGIN:DAYLIGHT
TZOFFSETFROM:+1000
TZOFFSETTO:+1100
TZNAME:AEDT
DTSTART:20221001T160000
END:DAYLIGHT
END:VTIMEZONE
BEGIN:VEVENT
DTSTART;TZID=Australia/Melbourne:20220206T080000
DTEND;TZID=Australia/Melbourne:20220206T170000
DTSTAMP:20260423T175051
CREATED:20220131T204946Z
LAST-MODIFIED:20220131T205227Z
UID:2530-1644134400-1644166800@judovictoria.com.au
SUMMARY:Inaugural Tournament 2022
DESCRIPTION:JVI inaugural tournament information
URL:https://judovictoria.com.au/event/inaugural-tournament-2022/
LOCATION:Broadmeadows Aquatic and Leisure Centre\, 63 Tanderrum Way\, Broadmeadows\, Victoria\, 3047\, Australia
CATEGORIES:Competition,In Victoria
ATTACH;FMTTYPE=image/jpeg:https://judovictoria.com.au/wp-content/uploads/2022/02/jvi_feb2022_tournament.jpg
END:VEVENT
END:VCALENDAR