BEGIN:VCALENDAR
VERSION:2.0
PRODID:-//Judo Victoria Incorporated - ECPv6.2.9//NONSGML v1.0//EN
CALSCALE:GREGORIAN
METHOD:PUBLISH
X-WR-CALNAME:Judo Victoria Incorporated
X-ORIGINAL-URL:https://judovictoria.com.au
X-WR-CALDESC:Events for Judo Victoria Incorporated
REFRESH-INTERVAL;VALUE=DURATION:PT1H
X-Robots-Tag:noindex
X-PUBLISHED-TTL:PT1H
BEGIN:VTIMEZONE
TZID:Australia/Melbourne
BEGIN:STANDARD
TZOFFSETFROM:+1100
TZOFFSETTO:+1000
TZNAME:AEST
DTSTART:20220402T160000
END:STANDARD
BEGIN:DAYLIGHT
TZOFFSETFROM:+1000
TZOFFSETTO:+1100
TZNAME:AEDT
DTSTART:20221001T160000
END:DAYLIGHT
END:VTIMEZONE
BEGIN:VEVENT
DTSTART;TZID=Australia/Melbourne:20220311T160000
DTEND;TZID=Australia/Melbourne:20220313T170000
DTSTAMP:20260423T163924
CREATED:20220131T205750Z
LAST-MODIFIED:20220216T214759Z
UID:2536-1647014400-1647190800@judovictoria.com.au
SUMMARY:Melbourne International Judo Open 2022
DESCRIPTION:
URL:https://judovictoria.com.au/event/melbourne-international-judo-open-2022/
LOCATION:Broadmeadows Aquatic and Leisure Centre\, 63 Tanderrum Way\, Broadmeadows\, Victoria\, 3047\, Australia
CATEGORIES:Competition,In Victoria,Interstate,JA
ATTACH;FMTTYPE=image/png:https://judovictoria.com.au/wp-content/uploads/2022/02/Screenshot-2021-12-10-122818-MIJO.png
END:VEVENT
END:VCALENDAR