BEGIN:VCALENDAR
VERSION:2.0
PRODID:-//Judo Victoria Incorporated - ECPv6.2.9//NONSGML v1.0//EN
CALSCALE:GREGORIAN
METHOD:PUBLISH
X-WR-CALNAME:Judo Victoria Incorporated
X-ORIGINAL-URL:https://judovictoria.com.au
X-WR-CALDESC:Events for Judo Victoria Incorporated
REFRESH-INTERVAL;VALUE=DURATION:PT1H
X-Robots-Tag:noindex
X-PUBLISHED-TTL:PT1H
BEGIN:VTIMEZONE
TZID:Australia/Melbourne
BEGIN:STANDARD
TZOFFSETFROM:+1100
TZOFFSETTO:+1000
TZNAME:AEST
DTSTART:20220402T160000
END:STANDARD
BEGIN:DAYLIGHT
TZOFFSETFROM:+1000
TZOFFSETTO:+1100
TZNAME:AEDT
DTSTART:20221001T160000
END:DAYLIGHT
END:VTIMEZONE
BEGIN:VEVENT
DTSTART;TZID=Australia/Melbourne:20220409T133000
DTEND;TZID=Australia/Melbourne:20220409T171500
DTSTAMP:20260423T153110
CREATED:20220131T210205Z
LAST-MODIFIED:20220131T210205Z
UID:2540-1649511000-1649524500@judovictoria.com.au
SUMMARY:Squad Training
DESCRIPTION:
URL:https://judovictoria.com.au/event/squad-training-7/
LOCATION:Resilience Training Centre\, 86 Buckley Street\, Footscray\, Victoria\, 3011\, Australia
CATEGORIES:In Victoria
END:VEVENT
END:VCALENDAR