BEGIN:VCALENDAR
VERSION:2.0
PRODID:-//Judo Victoria Incorporated - ECPv6.2.9//NONSGML v1.0//EN
CALSCALE:GREGORIAN
METHOD:PUBLISH
X-ORIGINAL-URL:https://judovictoria.com.au
X-WR-CALDESC:Events for Judo Victoria Incorporated
REFRESH-INTERVAL;VALUE=DURATION:PT1H
X-Robots-Tag:noindex
X-PUBLISHED-TTL:PT1H
BEGIN:VTIMEZONE
TZID:Australia/Melbourne
BEGIN:STANDARD
TZOFFSETFROM:+1100
TZOFFSETTO:+1000
TZNAME:AEST
DTSTART:20210403T160000
END:STANDARD
BEGIN:DAYLIGHT
TZOFFSETFROM:+1000
TZOFFSETTO:+1100
TZNAME:AEDT
DTSTART:20211002T160000
END:DAYLIGHT
END:VTIMEZONE
BEGIN:VEVENT
DTSTART;TZID=Australia/Melbourne:20210903T080000
DTEND;TZID=Australia/Melbourne:20210903T170000
DTSTAMP:20260424T022415
CREATED:20210806T105411Z
LAST-MODIFIED:20210806T105508Z
UID:2477-1630656000-1630688400@judovictoria.com.au
SUMMARY:National Schools Championships
DESCRIPTION:
URL:https://judovictoria.com.au/event/national-schools-championships-2/
LOCATION:Gold Coast Sport and Leisure Centre\, 296 Nerang Broadbeach Road\, Carrara\, Queensland\, 4211\, Australia
CATEGORIES:Competition,JA
END:VEVENT
BEGIN:VEVENT
DTSTART;TZID=Australia/Melbourne:20210904T080000
DTEND;TZID=Australia/Melbourne:20210905T170000
DTSTAMP:20260424T022415
CREATED:20210806T105637Z
LAST-MODIFIED:20210806T105637Z
UID:2479-1630742400-1630861200@judovictoria.com.au
SUMMARY:Gold Coast International Open
DESCRIPTION:
URL:https://judovictoria.com.au/event/gold-coast-international-open-3/
LOCATION:Gold Coast Sport and Leisure Centre\, 296 Nerang Broadbeach Road\, Carrara\, Queensland\, 4211\, Australia
CATEGORIES:Competition,Interstate,JA
END:VEVENT
END:VCALENDAR